BEGIN:VCALENDAR
VERSION:2.0
PRODID:-//hacksw/handcal//NONSGML v1.0//EN
BEGIN:VEVENT
SUMMARY:Premiers Kids Cross et Kids Athle
UID:a10bad33-45fd-4408-9d04-d9d0cd3820b4
DTSTART:20250117T230000Z
DTEND:20250308T230000Z
LOCATION:Localisation Petite Bouverie, Allee Pierre de Coubertain 76000 Rouen
CATEGORIES:Sportif
STATUS:
DESCRIPTION:<p>Deux temps forts pour le club comme pour nos poussines
 :</p>
 
 <p>En effet il s'agit des premieres epreuves pour nous sur le
 circuit des petits (eveils et poussins), le tout dans le secteur sud
 comprenant l'ASPTT, le CAQC76, OISSEL, le RCCCA, MONTIGNY et donc
 So'SpAC.</p>
 
 <p> </p>
 
 <p>Nous reunissons ici les le premier cross
 et la premiere animation athle piste.</p>
 
URL;VALUE=URI:https://www.sospac.fr/evenements/2025/01/18/premiers-kids-cross-et-kids-athle-2216957
END:VEVENT
END:VCALENDAR
