BEGIN:VCALENDAR
VERSION:2.0
PRODID:-//hacksw/handcal//NONSGML v1.0//EN
BEGIN:VEVENT
SUMMARY:Departementaux de cross Colleville
UID:356c19d7-b0a2-485c-aa58-eed89b76b6e9
DTSTART:20250111T230000Z
DTEND:20250112T230000Z
LOCATION:Localisation Stade Municipal, route de Gredolle 76400 Colleville
CATEGORIES:Sportif
STATUS:
DESCRIPTION:<p>Des premiers championnats departementaux de cross pour
 So'SpAC, qui s'annoncent boueux comme on les aimes.</p>
 
URL;VALUE=URI:https://www.sospac.fr/evenements/2025/01/12/departementaux-de-cross-colleville-2216966
END:VEVENT
END:VCALENDAR
