BEGIN:VCALENDAR
VERSION:2.0
PRODID:-//hacksw/handcal//NONSGML v1.0//EN
BEGIN:VEVENT
SUMMARY:Inter-departementaux cadets et +, en salle
UID:d8d1afcc-fb02-4045-afcc-eb4f8c0f8827
DTSTART:20250104T230000Z
DTEND:20250105T230000Z
LOCATION:Localisation Stade Jesse Owens, Parc des Sports, 2 Chaussee de Ritterhude 27100 Val de Reuil
CATEGORIES:Sportif
STATUS:
DESCRIPTION:<p>Premiers championnats inter-departementaux en salle
 pour So-SpAC avec un athlete et un jeune juge.</p>
 
URL;VALUE=URI:https://www.sospac.fr/evenements/2025/01/05/inter-departementaux-cadets-et-en-salle-2216963
END:VEVENT
END:VCALENDAR
