BEGIN:VCALENDAR
VERSION:2.0
PRODID:-//hacksw/handcal//NONSGML v1.0//EN
BEGIN:VEVENT
SUMMARY:Trail de Noel de Montigny
UID:2a3137c8-034e-465b-8e82-16c370a2e868
DTSTART:20241214T230000Z
DTEND:20241215T230000Z
LOCATION:Localisation   
CATEGORIES:Sportif
STATUS:
DESCRIPTION:<p>14eme edition du Trail de Noel organise par le
 Montigny La Vaupaliere Running Club le dimanche 15 decembre
 2024.</p>
 
 <p>Deux distances :</p>
 
 <p>10.5km depart a
 10h30</p>
 
 <p>23km depart a 9h30</p>
 
 <p>Et sur le 10,5 km, une
 athlete de So'SpAC</p>
 
URL;VALUE=URI:https://www.sospac.fr/evenements/2024/12/15/trail-de-noel-de-montigny-2216932
END:VEVENT
END:VCALENDAR
