BEGIN:VCALENDAR
VERSION:2.0
PRODID:-//hacksw/handcal//NONSGML v1.0//EN
BEGIN:VEVENT
SUMMARY:Epreuves ouvertes et departementaux benjamins en salle
UID:e8bd920a-9603-466f-9c95-04670921bba8
DTSTART:20241214T230000Z
DTEND:20241215T230000Z
LOCATION:Localisation Stade Jesse Owens, Parc des Sports, 2 Chaussee de Ritterhude 27100 Val de Reuil
CATEGORIES:Sportif
STATUS:
DESCRIPTION:<p>Pour notre benjamine Elyna, deux semaines intenses et
 pleines de promesses en cette fin decembre, avec ses premieres
 competitions en salle (toutes deux a Val de Reuil). Sur ces
 competitions, Allan et Adrien etaentlui en formation juge.</p>
 
URL;VALUE=URI:https://www.sospac.fr/evenements/2024/12/15/epreuves-ouvertes-et-departementaux-benjamins-en-salle-2216936
END:VEVENT
END:VCALENDAR
