BEGIN:VCALENDAR
VERSION:2.0
PRODID:-//hacksw/handcal//NONSGML v1.0//EN
BEGIN:VEVENT
SUMMARY:Soiree Jesse Owens #3
UID:f3582d3f-857e-4cda-ae40-00394d15857a
DTSTART:20241212T230000Z
DTEND:20241213T230000Z
LOCATION:Localisation Stade Jesse Owens, Parc des Sports, 2 Chaussee de Ritterhude 27100 Val de Reuil
CATEGORIES:Sportif
STATUS:
DESCRIPTION:<p>Cette soiree devait etre celle du retour a la
 competition de notre cadet Steeve, mais une blessure en a decide
 autrement, toujours est-il qu'Allan, lui aussi cadet 1ere annee,
 etait bien present et que notre benjamin, Adrien poursuivait sa
 formation de jeune juge.</p>
 
URL;VALUE=URI:https://www.sospac.fr/evenements/2024/12/13/soiree-jesse-owens-3-2216926
END:VEVENT
END:VCALENDAR
