BEGIN:VCALENDAR
VERSION:2.0
PRODID:-//hacksw/handcal//NONSGML v1.0//EN
BEGIN:VEVENT
SUMMARY:Cross de Vernon
UID:1782e8a1-3e90-48de-9bd5-8aeeabe4317c
DTSTART:20241123T230000Z
DTEND:20241124T230000Z
LOCATION:Localisation Stade de Vernonnet, 1 route de Giverny 27200 Vernon
CATEGORIES:Sportif
STATUS:
DESCRIPTION:<p>Un magnifique cross ouvert a toutes les categories, et
 ou nous vous esperons nombreux !</p>
 
URL;VALUE=URI:https://www.sospac.fr/evenements/2024/11/24/cross-de-vernon-2216356
END:VEVENT
END:VCALENDAR
