BEGIN:VCALENDAR
VERSION:2.0
PRODID:-//hacksw/handcal//NONSGML v1.0//EN
BEGIN:VEVENT
SUMMARY:Premiere soiree Jesse Owen de la saison
UID:f149507e-a503-4f22-9297-4db9acceb8ef
DTSTART:20241108T230000Z
DTEND:20241109T230000Z
LOCATION:Localisation Stade Jesse Owens  Val de Reuil
CATEGORIES:Sportif
STATUS:
DESCRIPTION:<p>Une belle premiere pour So'SpAC avec un jeune cadet
 present sur 60m et 400m, ainsi qu'un benjamin debutant sa formation
 de jeune juge. Une pensee egalement pour Steeve qui devait participer
 mais s'est blesse le jeudi.</p>
 
URL;VALUE=URI:https://www.sospac.fr/evenements/2024/11/09/premiere-soiree-jesse-owen-de-la-saison-2216352
END:VEVENT
END:VCALENDAR
