BEGIN:VCALENDAR
VERSION:2.0
PRODID:-//hacksw/handcal//NONSGML v1.0//EN
BEGIN:VEVENT
SUMMARY:Run 2k et Kinder Day, deux evenements, une seule journee
UID:ed46762c-e89d-4e76-a40a-5f6500b3397d
DTSTART:20241005T220000Z
DTEND:20241006T220000Z
LOCATION:Lieu du sport le dimanche 31 avenue du 14 Juillet 76300 Sotteville les Rouen
CATEGORIES:Sportif
STATUS:
DESCRIPTION:<p><span class="x193iq5w xeuugli x13faqbe x1vvkbs
 x1xmvt09 x1lliihq x1s928wv xhkezso x1gmr53x x1cpjm7i x1fgarty
 x1943h6x xudqn12 x3x7a5m x6prxxf xvq8zen xo1l8bm xzsf02u x1yc453h">On
 prepare nos premiers evenements de l'annee ! Les deux aurons lieu le
 dimanche 06 octobre 2024 au stade Jean Adret et seront inclusifs
 (valides ou en situation de <span class="html-span xdj266r x11i5rnm
 xat24cr x1mh8g0r xexx8yu x4uap5 x18d9i69 xkhd6sd x1hl2dhg x16tdsg8
 x1vvkbs"></span>handicap physique, psychique ou mental)
 .</span></p>
 
 <p><span class="x193iq5w xeuugli x13faqbe x1vvkbs
 x1xmvt09 x1lliihq x1s928wv xhkezso x1gmr53x x1cpjm7i x1fgarty
 x1943h6x xudqn12 x3x7a5m x6prxxf xvq8zen xo1l8bm xzsf02u
 x1yc453h">D'une part le Run2k, qui est un defi running ou marche qui
 consiste a parcourir un maximum de distance sur un temps imparti, et
 c'est le cumul de tous les participants qui
 compte.</span></p>
 
 <p><span class="x193iq5w xeuugli x13faqbe x1vvkbs
 x1xmvt09 x1lliihq x1s928wv xhkezso x1gmr53x x1cpjm7i x1fgarty
 x1943h6x xudqn12 x3x7a5m x6prxxf xvq8zen xo1l8bm xzsf02u
 x1yc453h">D'autre part le kinder day of joy, qui est une animation
 ouverte ou les enfants licencies peuvent inviter des ami(e)s a
 participer pour decouvir l'athletisme. </span></p>
 
URL;VALUE=URI:https://www.sospac.fr/evenements/2024/10/06/run-2k-et-kinder-day-deux-evenements-une-seule-journee-2216348
END:VEVENT
END:VCALENDAR
