BEGIN:VCALENDAR
VERSION:2.0
PRODID:-//hacksw/handcal//NONSGML v1.0//EN
BEGIN:VEVENT
SUMMARY:10km du Seine-Marathon 76
UID:5f0ca807-da09-4360-815c-bedb90f3bc25
DTSTART:20240927T220000Z
DTEND:20240928T220000Z
LOCATION:Localisation Quai Jean Moulin 76000 Rouen
CATEGORIES:Sportif
STATUS:
DESCRIPTION:<p>Un evenement incontournable du debut de saison du
 running normand avec des courses enfants, un 5km, un 10km, un semi et
 un marathon.</p>
 
 <p>Nous avions une athlete sur cette edition
 2024</p>
 
URL;VALUE=URI:https://www.sospac.fr/evenements/2024/09/28/10km-du-seine-marathon-76-2216917
END:VEVENT
END:VCALENDAR
