BEGIN:VCALENDAR
VERSION:2.0
PRODID:-//hacksw/handcal//NONSGML v1.0//EN
BEGIN:VEVENT
SUMMARY:Les Jours Olympiques et Paralympiques de Sotteville 2024
UID:ff479dcf-1c89-4ccf-955e-da2f86a4505b
DTSTART:20240616T220000Z
DTEND:20240623T220000Z
LOCATION:Localisation   
CATEGORIES:Manifestation
STATUS:
DESCRIPTION:<div class="j-module n j-text"
 id="cc-m-16849885024">
 <p><strong>Quelle belle semaine pour notre
 association, mais surtout pour les sottevillais
 !</strong></p>
 
 <p> </p>
 
 <p>Nous avons participe a la semaine
 olympique organisee par la commune de Sotteville-les-Rouen, et ce ne
 fut que du positif. Present sur les villages olympiques Rostand
 (lundi) et Gadeau de Kerville (mercredi), nous avons propose des
 ateliers sportifs avec la decouverte de nombreuses epreuves
 athletiques et des parcours avec Guillaume, mais aussi des ateliers
 artistiques, puisque les participants ont pu s'essayer a la peinture
 soufflee en compagnie de Sylvie et Celine. A chaque fois le meme
 resultat : des sourires sur tous les visages, et pour beaucoup,
 l'envie d'en savoir plus sur notre association et son concept unique,
 voir de nous rejoindre pour la rentree de
 septembre.</p>
 
 <p> </p>
 
 <p>Cette semaine s'est conclue par un
 defile avec toutes les associations sportives et dispositifs de la
 commune. Un defile franchement reussi et accompagne en musique par
 l'association Denilou. Puis pour terminer et immortaliser cette
 semaine, nous avons participer au tifo geant sur le stade Jean
 Adret.</p>
 
 <p> </p>
 
 <p>Une experience a refaire, meme hors periode
 olympique, tant les habitants et associations ont apprecie le
 dispositif.</p>
 
 <p> </p>
 
 <p><strong>Un grand merci a :
 </strong></p>
 
 <p>Nous tenons a remercier tout particulierement la
 municipalite de Sotteville-les-Rouen, son service des sports, les
 services techniques, les elus, la police municipale, toutes les
 associations presentes, le speaker Valentin, l'association Denilou,
 tous les participants, les benevoles et salaries presents sur le
 dispositif, en clair tout le monde, car la fete fut
 magnifique.</p>
 </div>
 
 <div class="j-module n j-spacing"
 id="cc-m-16849888324">
 <div class="cc-m-spacer"
 style="height:50px;"> </div>
 </div>
 
URL;VALUE=URI:https://www.sospac.fr/evenements/2024/06/17/les-jours-olympiques-et-paralympiques-de-sotteville-2024-2216344
END:VEVENT
END:VCALENDAR
