BEGIN:VCALENDAR
VERSION:2.0
PRODID:-//hacksw/handcal//NONSGML v1.0//EN
BEGIN:VEVENT
SUMMARY:Regionaux minimes 2024
UID:563a873e-6362-4db5-a5f3-db36d5412996
DTSTART:20240615T220000Z
DTEND:20240616T220000Z
LOCATION:Localisation Stade Roger Rochard, rue Jean Bouin 27000 Evreux
CATEGORIES:Sportif
STATUS:
DESCRIPTION:<p>Les premiers regionaux individuels minimes pour notre
 asso</p>
 
URL;VALUE=URI:https://www.sospac.fr/evenements/2024/06/16/regionaux-minimes-2024-2216318
END:VEVENT
END:VCALENDAR
