BEGIN:VCALENDAR
VERSION:2.0
PRODID:-//hacksw/handcal//NONSGML v1.0//EN
BEGIN:VEVENT
SUMMARY:Meeting jeunes, departementaux minimes.. So'SpAC assure !
UID:cd817e4b-44d5-4c5d-9741-e400f79bff5c
DTSTART:20240526T220000Z
DTEND:20240601T220000Z
LOCATION:Localisation Stade Municipal Joseph Guillemot, rue du 19 mars 1962 76360 Barentin
CATEGORIES:Sportif
STATUS:
DESCRIPTION:<p>Certes ils ne sont que deux, Steeve et Allan, mais
 quel debut de saison estivale pour nos jeunes minimes
 !</p>
 
 <p> </p>
 
 <p>Tout d'abord une grande premiere tant pour
 Steeve que pour l'association, sur un tres beau meeting jeunes a
 Barentin. Pour Allan, habitue des competitions par le passe avec le
 Stade Sottevillais 76, c'etait un petit peu moins nouveau, pour
 autant la fierte de porter ses nouvelles couleurs et de retrouver les
 pistes etait grande.</p>
 
URL;VALUE=URI:https://www.sospac.fr/evenements/2024/05/27/meeting-jeunes-departementaux-minimes-sospac-assure-2216313
END:VEVENT
END:VCALENDAR
