BEGIN:VCALENDAR
VERSION:2.0
PRODID:-//hacksw/handcal//NONSGML v1.0//EN
BEGIN:VEVENT
SUMMARY:Premier challenge normand de marche
UID:06e91cb9-8a3f-4899-a6fd-231eb01ffee2
DTSTART:20240330T230000Z
DTEND:20240331T230000Z
LOCATION:Localisation Stade Jesse Owens 27100 Val de Reuil
CATEGORIES:Sportif
STATUS:
DESCRIPTION:<p>Premier challenge normand de marche athletique, et
 premiere competition officielle pour So'SpAC, juste apres notre
 affiliation FFA</p>
 
URL;VALUE=URI:https://www.sospac.fr/evenements/2024/03/31/premier-challenge-normand-de-marche-2216297
END:VEVENT
END:VCALENDAR
