BEGIN:VCALENDAR
VERSION:2.0
PRODID:-//hacksw/handcal//NONSGML v1.0//EN
BEGIN:VEVENT
SUMMARY:Notre premiere sortie (marche sportive, rencontre des intervenants..)
UID:a52cc63a-ce9a-49c1-a89f-6acd2cc4f18d
DTSTART:20230426T220000Z
DTEND:20230427T220000Z
LOCATION:Localisation   
CATEGORIES:Festif
STATUS:
DESCRIPTION:<p><span class="x193iq5w xeuugli x13faqbe x1vvkbs
 x1xmvt09 x1lliihq x1s928wv xhkezso x1gmr53x x1cpjm7i x1fgarty
 x1943h6x xudqn12 x3x7a5m x6prxxf xvq8zen xo1l8bm xzsf02u">Une marche
 sportive en passant par les quelques-uns des lieux importants de la
 petite et de la grande histoire de Sotteville ainsi qu'un temps
 d’echange avec les intervenants, voila ce que nous avons propose
 pour notre premiere sortie.</span></p>
 
 <p><span class="x193iq5w
 xeuugli x13faqbe x1vvkbs x1xmvt09 x1lliihq x1s928wv xhkezso x1gmr53x
 x1cpjm7i x1fgarty x1943h6x xudqn12 x3x7a5m x6prxxf xvq8zen xo1l8bm
 xzsf02u">La pluie aura decidee de nous compliquer la tache, puisque
 du coup nous etions beaucoup moins nombreux que prevu, et en plus
 nous n'avons pas pu faire d'arrets photos sur les lieux importants,
 j'ai simplement fait le "guide" en expliquant l'histoire de ces
 endroits, car il etait impossible de sortir les appareils, de gerer
 les sacs etc... Sous une grosse averse...</span></p>
 
 <p><span
 class="x193iq5w xeuugli x13faqbe x1vvkbs x1xmvt09 x1lliihq x1s928wv
 xhkezso x1gmr53x x1cpjm7i x1fgarty x1943h6x xudqn12 x3x7a5m x6prxxf
 xvq8zen xo1l8bm xzsf02u">Mais au final, un tres bon moment quand
 meme, 5km a allure sportive et la certitude que nos propositions font
 sens</span></p>
 
URL;VALUE=URI:https://www.sospac.fr/evenements/2023/04/27/notre-premiere-sortie-marche-sportive-rencontre-des-intervenants-2216327
END:VEVENT
END:VCALENDAR
