BEGIN:VCALENDAR
VERSION:2.0
PRODID:-//hacksw/handcal//NONSGML v1.0//EN
BEGIN:VEVENT
SUMMARY:Championnats departementaux individuels benjamins/minimes
UID:cb644cf3-5bf8-4f7c-b8be-5bd9d84e3eea
DTSTART:20260513T220000Z
DTEND:20260514T220000Z
LOCATION:Localisation Stade Fernand Bigot,  Place Pierre De Coubertin 76170 Lillebonne
CATEGORIES:Sportif
STATUS:
DESCRIPTION:<p>Rendez-vous important pour nos benjamins et minimes,
 qui tenteront de s'illustrer sur les departementaux
 individuels </p>
 
 <p>Horaires a venir.... </p>
URL;VALUE=URI:https://www.sospac.fr/evenements/2026/05/14/championnats-departementaux-individuels-benjaminsminimes-2431129
END:VEVENT
BEGIN:VEVENT
SUMMARY:Meeting jeunes 276
UID:a8adf131-179b-428a-ae2b-cc36010c3e85
DTSTART:20260627T220000Z
DTEND:20260628T220000Z
LOCATION:Localisation Stade Marius Virmontois, Allee Georges Winter 76330 Notre-Dame-de-Gravenchon
CATEGORIES:Sportif
STATUS:
DESCRIPTION:<p>Meeting d'epreuves ouvertes pour les benjamins et
 minimes </p>
 
 <p>Horaires et infos a venir</p>
URL;VALUE=URI:https://www.sospac.fr/evenements/2026/06/28/meeting-jeunes-276-2431154
END:VEVENT
BEGIN:VEVENT
SUMMARY:Finale nationale des pointes d’or Minimes
UID:e75c5a8b-ebfb-44b1-9f80-14cc59c10320
DTSTART:20260703T220000Z
DTEND:20260705T220000Z
LOCATION:Localisation Stade Jean Bruck, 2 rue de vernouillet  Dreux
CATEGORIES:Sportif
STATUS:
DESCRIPTION:<p>Competition la plus relevee pour les
 minimes</p>
 
 <p>Sur selection apres performances
 estivales</p>
 
 <p>Horaires et infos a venir</p>
URL;VALUE=URI:https://www.sospac.fr/evenements/2026/07/04/finale-nationale-des-pointes-dor-minimes-2431157
END:VEVENT
BEGIN:VEVENT
SUMMARY:Finale regionale des Pointes d'OR benjamins et minimes
UID:9c14b82d-14bc-4514-bd17-a8bb69e92d04
DTSTART:20260704T220000Z
DTEND:20260705T220000Z
LOCATION:Localisation Stade Jean Berthelem 50000 Saint-Lo
CATEGORIES:Sportif
STATUS:
DESCRIPTION:<p>Une competition attendue par nos jeunes, reunissant
 les meilleurs benajmisn et minimes de la region</p>
 
 <p>Horaires et
 infos a venir</p>
URL;VALUE=URI:https://www.sospac.fr/evenements/2026/07/05/finale-regionale-des-pointes-dor-benjamins-et-minimes-2431156
END:VEVENT
END:VCALENDAR
